BEGIN:VCALENDAR
VERSION:2.0
PRODID:-// - ECPv6.15.20//NONSGML v1.0//EN
CALSCALE:GREGORIAN
METHOD:PUBLISH
X-ORIGINAL-URL:https://hdcancerconnection.com
X-WR-CALDESC:Events for 
REFRESH-INTERVAL;VALUE=DURATION:PT1H
X-Robots-Tag:noindex
X-PUBLISHED-TTL:PT1H
BEGIN:VTIMEZONE
TZID:UTC
BEGIN:STANDARD
TZOFFSETFROM:+0000
TZOFFSETTO:+0000
TZNAME:UTC
DTSTART:20240101T000000
END:STANDARD
END:VTIMEZONE
BEGIN:VEVENT
DTSTART;TZID=UTC:20251120T170000
DTEND;TZID=UTC:20251120T210000
DTSTAMP:20260421T005323
CREATED:20250716T205833Z
LAST-MODIFIED:20250923T161015Z
UID:1066-1763658000-1763672400@hdcancerconnection.com
SUMMARY:Quartermania 2025
DESCRIPTION:Quartermania: A Fun-Filled Fundraiser for Local Cancer Survivors 🎗️Get ready for one of the most exciting events of the year — Quartermania is back! This high-energy annual fundraiser helps support local cancer survivors\, and it’s packed with fun\, laughter\, and the thrill of winning amazing prizes — some for just the price of a quarter! \nLINK TO THE EVENT DETAILS AND TICKET PURCHASE \nYou won’t want to miss it. We’ll be sharing ticket info soon on this page and our Facebook page\, so stay tuned! \nCheck out photos from past events and see why Quartermania is the event everyone talks about and looks forward to every year. It’s more than just a fundraiser — it’s a celebration of community\, hope\, and giving. \nJoin us for a night of prizes\, purpose\, and plenty of quarters!  Interested in being a vendor that night.. contact Marlene 760.514.2721 or email mjc22122@comcast.com.
URL:https://hdcancerconnection.com/event/quartermania-2025/
LOCATION:CA
ATTACH;FMTTYPE=image/png:https://hdcancerconnection.com/wp-content/uploads/2025/09/Black-Red-Bold-Save-The-Date-Instagram-Post-1.png
ORGANIZER;CN="High Desert Cancer Connection":MAILTO:info@hdcancerconnection.com
END:VEVENT
BEGIN:VEVENT
DTSTART;TZID=UTC:20251009T100000
DTEND;TZID=UTC:20251009T113000
DTSTAMP:20260421T005323
CREATED:20250824T145452Z
LAST-MODIFIED:20250824T145452Z
UID:1147-1760004000-1760009400@hdcancerconnection.com
SUMMARY:Seminar - Breast Cancer & Aging
DESCRIPTION:What every senior should know about screening and detection. \nWe highly recommend attending this informative seminar – Dr. Megha Gupta from Sol Radiology \nReservations Required – 760.338.0914
URL:https://hdcancerconnection.com/event/seminar-breast-cancer-aging/
LOCATION:Choice Medical Group Conference Center\, 19111 Town Center Drive\, Apple Valley\, CA\, 92307\, United States
ATTACH;FMTTYPE=image/jpeg:https://hdcancerconnection.com/wp-content/uploads/2025/08/532210809_799513532410982_7397847878544590699_n.jpg
END:VEVENT
END:VCALENDAR